BEGIN:VCALENDAR
VERSION:2.0
PRODID:-//Bella Learning - ECPv4.9.11//NONSGML v1.0//EN
CALSCALE:GREGORIAN
METHOD:PUBLISH
X-WR-CALNAME:Bella Learning
X-ORIGINAL-URL:https://www.bellalearning.co.uk
X-WR-CALDESC:Events for Bella Learning
BEGIN:VTIMEZONE
TZID:Europe/London
BEGIN:DAYLIGHT
TZOFFSETFROM:+0000
TZOFFSETTO:+0100
TZNAME:BST
DTSTART:20240331T010000
END:DAYLIGHT
BEGIN:STANDARD
TZOFFSETFROM:+0100
TZOFFSETTO:+0000
TZNAME:GMT
DTSTART:20241027T010000
END:STANDARD
END:VTIMEZONE
BEGIN:VEVENT
DTSTART;TZID=Europe/London:20240710T200000
DTEND;TZID=Europe/London:20240710T213000
DTSTAMP:20260422T083640
CREATED:20240313T104937Z
LAST-MODIFIED:20240403T125605Z
UID:3360-1720641600-1720647000@www.bellalearning.co.uk
SUMMARY:11 Plus Explained
DESCRIPTION:This workshop by Bella Learning will help parents understand the application process\, the school options and the 11 plus test for children starting secondary school. Through practical advice and interactive activities\, Annabel will explain what the school options are\, how to know which school will suit your child and what is expected to pass the 11 plus test. You might even get to have a go yourself! \nThe workshop will cover general information about 11 plus with a specific focus on the areas of Bromley\, Bexley and Kent – including private school options\, comprehensive schools and the differing entrance exams. There will be plenty of time for questions at the end\, as well as opportunities to sign up for consultations\, assessments\, tutoring and summer skills sessions with Bella Learning. \nThe workshop is suitable for parents and carers of children at any age – it’s never to early to be informed – but particularly those starting to consider Secondary options. Ticket price is £15. \nPlease click website link below to book tickets. \nhttps://portal.bellalearning.co.uk/public/appointment-scheduler/660d437971c68e6166206291/schedule \nShare on FacebookPost on XFollow usSave
URL:https://www.bellalearning.co.uk/event/11-plus-explained-4/
LOCATION:33B Chislehurst High Street\, Br7 5ae\, United Kingdom
ATTACH;FMTTYPE=image/jpeg:https://www.bellalearning.co.uk/wp-content/uploads/2022/03/11-Plus-2-e1678458197169.jpg
END:VEVENT
END:VCALENDAR