BEGIN:VCALENDAR
VERSION:2.0
PRODID:-//Bella Learning - ECPv4.9.11//NONSGML v1.0//EN
CALSCALE:GREGORIAN
METHOD:PUBLISH
X-WR-CALNAME:Bella Learning
X-ORIGINAL-URL:https://www.bellalearning.co.uk
X-WR-CALDESC:Events for Bella Learning
BEGIN:VTIMEZONE
TZID:Europe/London
BEGIN:DAYLIGHT
TZOFFSETFROM:+0000
TZOFFSETTO:+0100
TZNAME:BST
DTSTART:20240331T010000
END:DAYLIGHT
BEGIN:STANDARD
TZOFFSETFROM:+0100
TZOFFSETTO:+0000
TZNAME:GMT
DTSTART:20241027T010000
END:STANDARD
END:VTIMEZONE
BEGIN:VEVENT
DTSTART;TZID=Europe/London:20240530T090000
DTEND;TZID=Europe/London:20240531T150000
DTSTAMP:20260422T082809
CREATED:20240415T131416Z
LAST-MODIFIED:20240415T132041Z
UID:3376-1717059600-1717167600@www.bellalearning.co.uk
SUMMARY:May Half-Term Revision Days
DESCRIPTION:YEAR 5 and 4 Only \nJoin Bella Learning for some half-term revision days on Thursday 30th and/or Friday 31st May. \nChildren in year 4 and 5 will revise the key areas that come up in the 11 Plus tests. There will be an hour focus each day on each of the 4 areas – English\, Maths\, Verbal Reasoning\, Non-Verbal Reasoning. Children will also get the opportunity \nChildren will need to bring lunch\, snacks and drinks. There will be regular rest breaks as well as half an hour for lunch. \n£125 per day or £225 for both. \nShare on FacebookPost on XFollow usSave
URL:https://www.bellalearning.co.uk/event/half-revision-day/
LOCATION:33B Chislehurst High Street\, Br7 5ae\, United Kingdom
ATTACH;FMTTYPE=image/jpeg:https://www.bellalearning.co.uk/wp-content/uploads/2022/03/Skills-Week-e1648304686419.jpg
END:VEVENT
END:VCALENDAR